BEGIN:VCALENDAR
VERSION:2.0
PRODID:-// - ECPv5.16.1.1//NONSGML v1.0//EN
CALSCALE:GREGORIAN
METHOD:PUBLISH
X-ORIGINAL-URL:https://www.hclg-leipzig.com
X-WR-CALDESC:Veranstaltungen für 
BEGIN:VTIMEZONE
TZID:Europe/Berlin
BEGIN:DAYLIGHT
TZOFFSETFROM:+0100
TZOFFSETTO:+0200
TZNAME:CEST
DTSTART:20170326T010000
END:DAYLIGHT
BEGIN:STANDARD
TZOFFSETFROM:+0200
TZOFFSETTO:+0100
TZNAME:CET
DTSTART:20171029T010000
END:STANDARD
END:VTIMEZONE
BEGIN:VEVENT
DTSTART;TZID=Europe/Berlin:20171125T100000
DTEND;TZID=Europe/Berlin:20171125T150000
DTSTAMP:20260422T110614
CREATED:20171112T200244Z
LAST-MODIFIED:20171112T200244Z
UID:2126-1511604000-1511622000@www.hclg-leipzig.com
SUMMARY:KäuzchenCup
DESCRIPTION:Käuzchen Cup in der Halle\n\n 
URL:https://www.hclg-leipzig.com/veranstaltungen/kaeuzchencup/
LOCATION:Leipzig Friesenhalle\, Friesenstraße 5\, Leipzig
CATEGORIES:Hallensaison
END:VEVENT
END:VCALENDAR